BEGIN:VCALENDAR
VERSION:2.0
PRODID:-//BODY OF CHRIST MINISTRIES INT - ECPv6.15.20//NONSGML v1.0//EN
CALSCALE:GREGORIAN
METHOD:PUBLISH
X-WR-CALNAME:BODY OF CHRIST MINISTRIES INT
X-ORIGINAL-URL:https://bodyofchristministry.co
X-WR-CALDESC:Events for BODY OF CHRIST MINISTRIES INT
REFRESH-INTERVAL;VALUE=DURATION:PT1H
X-Robots-Tag:noindex
X-PUBLISHED-TTL:PT1H
BEGIN:VTIMEZONE
TZID:Africa/Douala
BEGIN:STANDARD
TZOFFSETFROM:+0100
TZOFFSETTO:+0100
TZNAME:WAT
DTSTART:20240101T000000
END:STANDARD
END:VTIMEZONE
BEGIN:VEVENT
DTSTART;TZID=Africa/Douala:20251231T210000
DTEND;TZID=Africa/Douala:20260101T010000
DTSTAMP:20260423T232943
CREATED:20251231T122111Z
LAST-MODIFIED:20251231T123727Z
UID:1736-1767214800-1767229200@bodyofchristministry.co
SUMMARY:Cross Over Service 2025
DESCRIPTION:CROSS OVER SERVICE 2025\nA divine transition into the new year through revelation\, prayer\, and spiritual awakening. \nEvent Details\n📅 Date: Tuesday\, 31st December 2025⏰ Time: 9:00 PM (Crossover Night)📍 Venue: Nouvelle Route Septième\, Troisième Carrefour – Douala\, Cameroon \nTheme\nThe Silent Awakening \nMinistering\nRev. Apostle N. Nelson(Lead Minister) \nHosted By\nBody of Christ Ministries InternationalDouala – Cameroon \nThe Cross Over Service 2025 is a prophetic end-of-year gathering designed to usher believers into the new year with spiritual clarity\, divine alignment\, and renewed consciousness in Christ. \nUnder the theme “The Silent Awakening\,” this service will focus on deep spiritual illumination\, unveiling what God has already placed within His people\, and activating purpose through the Word. \nThis is not just a crossover — it is an awakening. \nCome prepared for: \n\n\nPowerful teaching of the Word \n\n\nPrayer and prophetic direction \n\n\nA spiritual transition into the new year \n\n\n✨ End the year in God’s presence \n\n\n🔥 Step into 2025 awakened and aligned \n\n\n📌 Invite someone and don’t miss this moment \n\n\n🔗 Website: bodyofchristministry.co📘 Facebook: Rev N Nelson▶️ YouTube: Body of Christ Ministries Intl
URL:https://bodyofchristministry.co/event/cross-over-service-2025/
LOCATION:Nouvelle Route Septieme\, Troisieme Carrefour\, Omnisport\, Douala\, Cameroon\, Nouvelle Route 7eme\, Douala\, Cameroon\, Douala\, littoral\, 237\, Cameroon
CATEGORIES:Spiritual Empowerment Events
ATTACH;FMTTYPE=image/jpeg:https://bodyofchristministry.co/wp-content/uploads/2025/12/WhatsApp-Image-2025-12-27-at-18.45.57-e1767184266662.jpeg
END:VEVENT
END:VCALENDAR